BEGIN:VCALENDAR
VERSION:2.0
PRODID:-//Danske Murermestre - ECPv6.15.16//NONSGML v1.0//EN
CALSCALE:GREGORIAN
METHOD:PUBLISH
X-ORIGINAL-URL:https://danskemurermestre.dk
X-WR-CALDESC:Events for Danske Murermestre
REFRESH-INTERVAL;VALUE=DURATION:PT1H
X-Robots-Tag:noindex
X-PUBLISHED-TTL:PT1H
BEGIN:VTIMEZONE
TZID:Europe/Copenhagen
BEGIN:DAYLIGHT
TZOFFSETFROM:+0100
TZOFFSETTO:+0200
TZNAME:CEST
DTSTART:20250330T010000
END:DAYLIGHT
BEGIN:STANDARD
TZOFFSETFROM:+0200
TZOFFSETTO:+0100
TZNAME:CET
DTSTART:20251026T010000
END:STANDARD
BEGIN:DAYLIGHT
TZOFFSETFROM:+0100
TZOFFSETTO:+0200
TZNAME:CEST
DTSTART:20260329T010000
END:DAYLIGHT
BEGIN:STANDARD
TZOFFSETFROM:+0200
TZOFFSETTO:+0100
TZNAME:CET
DTSTART:20261025T010000
END:STANDARD
BEGIN:DAYLIGHT
TZOFFSETFROM:+0100
TZOFFSETTO:+0200
TZNAME:CEST
DTSTART:20270328T010000
END:DAYLIGHT
BEGIN:STANDARD
TZOFFSETFROM:+0200
TZOFFSETTO:+0100
TZNAME:CET
DTSTART:20271031T010000
END:STANDARD
BEGIN:DAYLIGHT
TZOFFSETFROM:+0100
TZOFFSETTO:+0200
TZNAME:CEST
DTSTART:20280326T010000
END:DAYLIGHT
BEGIN:STANDARD
TZOFFSETFROM:+0200
TZOFFSETTO:+0100
TZNAME:CET
DTSTART:20281029T010000
END:STANDARD
END:VTIMEZONE
BEGIN:VEVENT
DTSTART;TZID=Europe/Copenhagen:20261214T160000
DTEND;TZID=Europe/Copenhagen:20261214T200000
DTSTAMP:20260419T220039
CREATED:20260206T112303Z
LAST-MODIFIED:20260206T112303Z
UID:10000096-1797264000-1797278400@danskemurermestre.dk
SUMMARY:RESERVERET: Fællesmøde mellem Træsektionen\, Danske Murermestre og byggeudvalget
DESCRIPTION:
URL:https://danskemurermestre.dk/aktivitet/reserveret-faellesmoede-mellem-traesektionen-danske-murermestre-og-byggeudvalget/
END:VEVENT
BEGIN:VEVENT
DTSTART;TZID=Europe/Copenhagen:20261215T160000
DTEND;TZID=Europe/Copenhagen:20261215T183000
DTSTAMP:20260419T220039
CREATED:20260218T090900Z
LAST-MODIFIED:20260218T090900Z
UID:10000112-1797350400-1797359400@danskemurermestre.dk
SUMMARY:Udvalgsmøde Danske Murermestre Region Midt- & Vestjylland
DESCRIPTION:Fælles julemøde på Hotel Eyde sammen med Træsektionens udvalg og Byggeudvalget
URL:https://danskemurermestre.dk/aktivitet/udvalgsmoede-danske-murermestre-region-midt-vestjylland-3/
END:VEVENT
BEGIN:VEVENT
DTSTART;TZID=Europe/Copenhagen:20270119T130000
DTEND;TZID=Europe/Copenhagen:20270119T170000
DTSTAMP:20260419T220039
CREATED:20250925T085408Z
LAST-MODIFIED:20250925T085408Z
UID:10000081-1800363600-1800378000@danskemurermestre.dk
SUMMARY:Bestyrelsesmøde Danske Murermestre
DESCRIPTION:gl. Vindinge
URL:https://danskemurermestre.dk/aktivitet/bestyrelsesmoede-danske-murermestre-8/
END:VEVENT
BEGIN:VEVENT
DTSTART;TZID=Europe/Copenhagen:20270126T090000
DTEND;TZID=Europe/Copenhagen:20270126T160000
DTSTAMP:20260419T220039
CREATED:20250919T083934Z
LAST-MODIFIED:20260204T121650Z
UID:10000059-1800954000-1800979200@danskemurermestre.dk
SUMMARY:Kursus: Opsamling på Generations- og Teamledelse
DESCRIPTION:Dette modul samler op på læringen fra Generationsledelse og Teamledelse. Vi reflekterer over\, hvordan du har brugt værktøjerne i din hverdag.
URL:https://danskemurermestre.dk/aktivitet/kursus-opsamling-paa-generations-og-teamledelse/
LOCATION:Gl. Vindinge Nyborg
END:VEVENT
BEGIN:VEVENT
DTSTART;TZID=Europe/Copenhagen:20270312T120000
DTEND;TZID=Europe/Copenhagen:20270312T170000
DTSTAMP:20260419T220039
CREATED:20260416T125721Z
LAST-MODIFIED:20260416T125721Z
UID:10000117-1804852800-1804870800@danskemurermestre.dk
SUMMARY:Generalforsamling
DESCRIPTION:Danske Murermestres generalforsamling på Munkebjerg Hotel (uden ledsagere).
URL:https://danskemurermestre.dk/aktivitet/generalforsamling/
LOCATION:Munkebjerg Hotel\, Munkebjergvej 125\, Vejle\, 7100
END:VEVENT
END:VCALENDAR