BEGIN:VCALENDAR
VERSION:2.0
PRODID:-//Danske Murermestre - ECPv6.15.16//NONSGML v1.0//EN
CALSCALE:GREGORIAN
METHOD:PUBLISH
X-ORIGINAL-URL:https://danskemurermestre.dk
X-WR-CALDESC:Events for Danske Murermestre
REFRESH-INTERVAL;VALUE=DURATION:PT1H
X-Robots-Tag:noindex
X-PUBLISHED-TTL:PT1H
BEGIN:VTIMEZONE
TZID:Europe/Copenhagen
BEGIN:DAYLIGHT
TZOFFSETFROM:+0100
TZOFFSETTO:+0200
TZNAME:CEST
DTSTART:20240331T010000
END:DAYLIGHT
BEGIN:STANDARD
TZOFFSETFROM:+0200
TZOFFSETTO:+0100
TZNAME:CET
DTSTART:20241027T010000
END:STANDARD
BEGIN:DAYLIGHT
TZOFFSETFROM:+0100
TZOFFSETTO:+0200
TZNAME:CEST
DTSTART:20250330T010000
END:DAYLIGHT
BEGIN:STANDARD
TZOFFSETFROM:+0200
TZOFFSETTO:+0100
TZNAME:CET
DTSTART:20251026T010000
END:STANDARD
BEGIN:DAYLIGHT
TZOFFSETFROM:+0100
TZOFFSETTO:+0200
TZNAME:CEST
DTSTART:20260329T010000
END:DAYLIGHT
BEGIN:STANDARD
TZOFFSETFROM:+0200
TZOFFSETTO:+0100
TZNAME:CET
DTSTART:20261025T010000
END:STANDARD
END:VTIMEZONE
BEGIN:VEVENT
DTSTART;VALUE=DATE:20250508
DTEND;VALUE=DATE:20250509
DTSTAMP:20260421T232101
CREATED:20250305T092545Z
LAST-MODIFIED:20250305T092545Z
UID:10000027-1746662400-1746748799@danskemurermestre.dk
SUMMARY:Møde teknisk udvalg
DESCRIPTION:Møde i Danske Murermestres tekniske udvalg.
URL:https://danskemurermestre.dk/aktivitet/mode-teknisk-udvalg/
END:VEVENT
BEGIN:VEVENT
DTSTART;VALUE=DATE:20250514
DTEND;VALUE=DATE:20250515
DTSTAMP:20260421T232101
CREATED:20250305T090355Z
LAST-MODIFIED:20250305T090355Z
UID:10000011-1747180800-1747267199@danskemurermestre.dk
SUMMARY:Møde i Det Faglige Fællesudvalg
DESCRIPTION:Møde i Det Faglige Fællesudvalg for Murer-\, Stenhugger- og Stukkaturfaget.
URL:https://danskemurermestre.dk/aktivitet/mode-i-det-faglige-faellesudvalg/
LOCATION:Hjørring\, Hjørring
END:VEVENT
BEGIN:VEVENT
DTSTART;TZID=Europe/Copenhagen:20250515T150000
DTEND;TZID=Europe/Copenhagen:20250515T170000
DTSTAMP:20260421T232101
CREATED:20250513T095544Z
LAST-MODIFIED:20250513T095544Z
UID:10000041-1747321200-1747328400@danskemurermestre.dk
SUMMARY:Regionsudvalgsmøde Fyn og Sydjylland
DESCRIPTION:
URL:https://danskemurermestre.dk/aktivitet/regionsudvalgsmoede-fyn-og-sydjylland/
LOCATION:Scandic Kolding\, Kokholm 5\, Kolding\, 6000
END:VEVENT
BEGIN:VEVENT
DTSTART;VALUE=DATE:20250521
DTEND;VALUE=DATE:20250522
DTSTAMP:20260421T232101
CREATED:20250227T083455Z
LAST-MODIFIED:20250227T083455Z
UID:10000001-1747785600-1747871999@danskemurermestre.dk
SUMMARY:Bestyrelsesmøde Danske Murermestre
DESCRIPTION:
URL:https://danskemurermestre.dk/aktivitet/bestyrelsesmode-danske-murermestre/
LOCATION:Industriens Hus\, H.C. Andersens Blvd. 18\, København\, 1553\, Denmark
END:VEVENT
BEGIN:VEVENT
DTSTART;VALUE=DATE:20250522
DTEND;VALUE=DATE:20250523
DTSTAMP:20260421T232101
CREATED:20250227T084424Z
LAST-MODIFIED:20250227T095026Z
UID:10000002-1747872000-1747958399@danskemurermestre.dk
SUMMARY:Generalforsamling og årsdag i DI Byggeri
DESCRIPTION:
URL:https://danskemurermestre.dk/aktivitet/generalforsamling-og-aarsdag-i-di-byggeri/
LOCATION:Fængslet\, Fussingsvej 8\, Horsens\, 8700 Horsens
END:VEVENT
END:VCALENDAR