BEGIN:VCALENDAR
VERSION:2.0
PRODID:-//Danske Murermestre - ECPv6.15.16//NONSGML v1.0//EN
CALSCALE:GREGORIAN
METHOD:PUBLISH
X-ORIGINAL-URL:https://danskemurermestre.dk
X-WR-CALDESC:Events for Danske Murermestre
REFRESH-INTERVAL;VALUE=DURATION:PT1H
X-Robots-Tag:noindex
X-PUBLISHED-TTL:PT1H
BEGIN:VTIMEZONE
TZID:Europe/Copenhagen
BEGIN:DAYLIGHT
TZOFFSETFROM:+0100
TZOFFSETTO:+0200
TZNAME:CEST
DTSTART:20240331T010000
END:DAYLIGHT
BEGIN:STANDARD
TZOFFSETFROM:+0200
TZOFFSETTO:+0100
TZNAME:CET
DTSTART:20241027T010000
END:STANDARD
BEGIN:DAYLIGHT
TZOFFSETFROM:+0100
TZOFFSETTO:+0200
TZNAME:CEST
DTSTART:20250330T010000
END:DAYLIGHT
BEGIN:STANDARD
TZOFFSETFROM:+0200
TZOFFSETTO:+0100
TZNAME:CET
DTSTART:20251026T010000
END:STANDARD
BEGIN:DAYLIGHT
TZOFFSETFROM:+0100
TZOFFSETTO:+0200
TZNAME:CEST
DTSTART:20260329T010000
END:DAYLIGHT
BEGIN:STANDARD
TZOFFSETFROM:+0200
TZOFFSETTO:+0100
TZNAME:CET
DTSTART:20261025T010000
END:STANDARD
END:VTIMEZONE
BEGIN:VEVENT
DTSTART;VALUE=DATE:20250611
DTEND;VALUE=DATE:20250612
DTSTAMP:20260421T215118
CREATED:20250305T092056Z
LAST-MODIFIED:20250305T092056Z
UID:10000021-1749600000-1749686399@danskemurermestre.dk
SUMMARY:Murerfagets faglærerkonference 2025
DESCRIPTION:
URL:https://danskemurermestre.dk/aktivitet/murerfagets-faglaererkonference-2025/
END:VEVENT
BEGIN:VEVENT
DTSTART;TZID=Europe/Copenhagen:20250613T133000
DTEND;TZID=Europe/Copenhagen:20250613T163000
DTSTAMP:20260421T215118
CREATED:20250305T091822Z
LAST-MODIFIED:20250305T091822Z
UID:10000019-1749821400-1749832200@danskemurermestre.dk
SUMMARY:Folkemøde Bornholm
DESCRIPTION:Danske Murermestre afholder MurerSkills – hvem bliver Folkemødets murermester 2025?
URL:https://danskemurermestre.dk/aktivitet/folkemode-bornholm/
LOCATION:Bornholm
END:VEVENT
BEGIN:VEVENT
DTSTART;VALUE=DATE:20250618
DTEND;VALUE=DATE:20250619
DTSTAMP:20260421T215118
CREATED:20250305T084643Z
LAST-MODIFIED:20250305T084643Z
UID:10000005-1750204800-1750291199@danskemurermestre.dk
SUMMARY:DI Byggeri bestyrelsesmøde
DESCRIPTION:
URL:https://danskemurermestre.dk/aktivitet/di-byggeri-bestyrelsesmode/
LOCATION:Industriens Hus\, H.C. Andersens Blvd. 18\, København\, 1553\, Denmark
END:VEVENT
BEGIN:VEVENT
DTSTART;VALUE=DATE:20250625
DTEND;VALUE=DATE:20250626
DTSTAMP:20260421T215118
CREATED:20250305T090540Z
LAST-MODIFIED:20250305T090658Z
UID:10000012-1750809600-1750895999@danskemurermestre.dk
SUMMARY:Møde i Det Faglige Fællesudvalg
DESCRIPTION:Møde i Det Faglige Fællesudvalg for Murer-\, Stenhugger- og Stukkaturfaget.
URL:https://danskemurermestre.dk/aktivitet/mode-i-det-faglige-faellesudvalg-copy/
LOCATION:København
END:VEVENT
BEGIN:VEVENT
DTSTART;VALUE=DATE:20250630
DTEND;VALUE=DATE:20250705
DTSTAMP:20260421T215118
CREATED:20250305T092459Z
LAST-MODIFIED:20250305T092459Z
UID:10000026-1751241600-1751673599@danskemurermestre.dk
SUMMARY:Skills Competition Camp
DESCRIPTION:
URL:https://danskemurermestre.dk/aktivitet/skills-competition-camp/
LOCATION:Herningsholm Erhvervsskole & Gymnasier
END:VEVENT
END:VCALENDAR