BEGIN:VCALENDAR
VERSION:2.0
PRODID:-//Danske Murermestre - ECPv6.15.16//NONSGML v1.0//EN
CALSCALE:GREGORIAN
METHOD:PUBLISH
X-ORIGINAL-URL:https://danskemurermestre.dk
X-WR-CALDESC:Events for Danske Murermestre
REFRESH-INTERVAL;VALUE=DURATION:PT1H
X-Robots-Tag:noindex
X-PUBLISHED-TTL:PT1H
BEGIN:VTIMEZONE
TZID:Europe/Copenhagen
BEGIN:DAYLIGHT
TZOFFSETFROM:+0100
TZOFFSETTO:+0200
TZNAME:CEST
DTSTART:20240331T010000
END:DAYLIGHT
BEGIN:STANDARD
TZOFFSETFROM:+0200
TZOFFSETTO:+0100
TZNAME:CET
DTSTART:20241027T010000
END:STANDARD
BEGIN:DAYLIGHT
TZOFFSETFROM:+0100
TZOFFSETTO:+0200
TZNAME:CEST
DTSTART:20250330T010000
END:DAYLIGHT
BEGIN:STANDARD
TZOFFSETFROM:+0200
TZOFFSETTO:+0100
TZNAME:CET
DTSTART:20251026T010000
END:STANDARD
BEGIN:DAYLIGHT
TZOFFSETFROM:+0100
TZOFFSETTO:+0200
TZNAME:CEST
DTSTART:20260329T010000
END:DAYLIGHT
BEGIN:STANDARD
TZOFFSETFROM:+0200
TZOFFSETTO:+0100
TZNAME:CET
DTSTART:20261025T010000
END:STANDARD
END:VTIMEZONE
BEGIN:VEVENT
DTSTART;VALUE=DATE:20251103
DTEND;VALUE=DATE:20251104
DTSTAMP:20260421T150036
CREATED:20250709T112016Z
LAST-MODIFIED:20250709T112016Z
UID:10000043-1762128000-1762214399@danskemurermestre.dk
SUMMARY:Priskurantudvalgsmøde
DESCRIPTION:Murer priskurantudvalgsmøde i Huset Middelfart.
URL:https://danskemurermestre.dk/aktivitet/priskurantudvalgsmoede/
LOCATION:Huset Middelfart\, Middelfart\, Denmark
END:VEVENT
BEGIN:VEVENT
DTSTART;TZID=Europe/Copenhagen:20251103T080000
DTEND;TZID=Europe/Copenhagen:20251107T150000
DTSTAMP:20260421T150036
CREATED:20250919T082727Z
LAST-MODIFIED:20250919T082727Z
UID:10000054-1762156800-1762527600@danskemurermestre.dk
SUMMARY:Regionsmesterskaber 2025 - Nordsjælland
DESCRIPTION:Afholdes på NEXT Glostrup.
URL:https://danskemurermestre.dk/aktivitet/regionsmesterskaber-2025-nordsjaelland/
END:VEVENT
BEGIN:VEVENT
DTSTART;VALUE=DATE:20251104
DTEND;VALUE=DATE:20251105
DTSTAMP:20260421T150036
CREATED:20250904T084243Z
LAST-MODIFIED:20250904T084407Z
UID:10000049-1762214400-1762300799@danskemurermestre.dk
SUMMARY:Møde i regionsudvalg Hovedstaden
DESCRIPTION:Industrivej 38A\, 4000 Roskilde
URL:https://danskemurermestre.dk/aktivitet/moede-i-regionsudvalg-oestjylland-copy-copy/
END:VEVENT
BEGIN:VEVENT
DTSTART;VALUE=DATE:20251105
DTEND;VALUE=DATE:20251106
DTSTAMP:20260421T150036
CREATED:20250709T112056Z
LAST-MODIFIED:20250709T112056Z
UID:10000044-1762300800-1762387199@danskemurermestre.dk
SUMMARY:Priskurantudvalgsmøde
DESCRIPTION:Murer priskurantudvalgsmøde i Huset Middelfart.
URL:https://danskemurermestre.dk/aktivitet/priskurantudvalgsmoede-2/
LOCATION:Huset Middelfart\, Middelfart\, Denmark
END:VEVENT
BEGIN:VEVENT
DTSTART;TZID=Europe/Copenhagen:20251112T120000
DTEND;TZID=Europe/Copenhagen:20251112T160000
DTSTAMP:20260421T150036
CREATED:20250919T083401Z
LAST-MODIFIED:20250919T083443Z
UID:10000056-1762948800-1762963200@danskemurermestre.dk
SUMMARY:Kursus: Akkord og overenskomstforhold – Murer\, provinsen
DESCRIPTION:Overvejer du at indføre akkordarbejde i din virksomhed? Eller vil du bare gerne være sikker på at være helt skarp\, når I udregner akkorder? Så er dette kursus noget for dig.
URL:https://danskemurermestre.dk/aktivitet/kursus-akkord-og-overenskomstforhold-murer-provinsen/
LOCATION:Gl. Vindinge Nyborg
END:VEVENT
BEGIN:VEVENT
DTSTART;VALUE=DATE:20251113
DTEND;VALUE=DATE:20251114
DTSTAMP:20260421T150036
CREATED:20250709T112222Z
LAST-MODIFIED:20250709T112222Z
UID:10000045-1762992000-1763078399@danskemurermestre.dk
SUMMARY:Møde i teknisk udvalg
DESCRIPTION:Møde i Danske murermestres tekniske udvalg
URL:https://danskemurermestre.dk/aktivitet/moede-i-teknisk-udvalg/
END:VEVENT
BEGIN:VEVENT
DTSTART;VALUE=DATE:20251126
DTEND;VALUE=DATE:20251127
DTSTAMP:20260421T150036
CREATED:20250305T090955Z
LAST-MODIFIED:20250305T091032Z
UID:10000015-1764115200-1764201599@danskemurermestre.dk
SUMMARY:Møde i Det Faglige Fællesudvalg
DESCRIPTION:Møde i Det Faglige Fællesudvalg for Murer-\, Stenhugger- og Stukkaturfaget.
URL:https://danskemurermestre.dk/aktivitet/mode-i-det-faglige-faellesudvalg-copy-4/
LOCATION:Holbæk
END:VEVENT
BEGIN:VEVENT
DTSTART;VALUE=DATE:20251126
DTEND;VALUE=DATE:20251127
DTSTAMP:20260421T150036
CREATED:20250903T074703Z
LAST-MODIFIED:20250904T084154Z
UID:10000047-1764115200-1764201599@danskemurermestre.dk
SUMMARY:Møde i regionsudvalg Østjylland
DESCRIPTION:Raadhuus Kafeen\, Sønder Allé 3\, 8000 Aarhus C
URL:https://danskemurermestre.dk/aktivitet/moede-i-regionsudvalg-oestjylland-copy/
END:VEVENT
BEGIN:VEVENT
DTSTART;TZID=Europe/Copenhagen:20251126T160000
DTEND;TZID=Europe/Copenhagen:20251126T180000
DTSTAMP:20260421T150036
CREATED:20250925T063840Z
LAST-MODIFIED:20250925T063904Z
UID:10000061-1764172800-1764180000@danskemurermestre.dk
SUMMARY:Udvalgsmøde Danske Murermestre Region Sjælland/Lolland Falster
DESCRIPTION:I Køge
URL:https://danskemurermestre.dk/aktivitet/udvalgsmoede-danske-murermestre-region-sjaelland-lolland-falster/
END:VEVENT
BEGIN:VEVENT
DTSTART;VALUE=DATE:20251127
DTEND;VALUE=DATE:20251128
DTSTAMP:20260421T150036
CREATED:20250903T074837Z
LAST-MODIFIED:20250903T074923Z
UID:10000048-1764201600-1764287999@danskemurermestre.dk
SUMMARY:Møde i regionsudvalg Sydjylland
DESCRIPTION:
URL:https://danskemurermestre.dk/aktivitet/moede-i-regionsudvalg-oestjylland-copy-2/
END:VEVENT
END:VCALENDAR