BEGIN:VCALENDAR
VERSION:2.0
PRODID:-//Danske Murermestre - ECPv6.15.16//NONSGML v1.0//EN
CALSCALE:GREGORIAN
METHOD:PUBLISH
X-ORIGINAL-URL:https://danskemurermestre.dk
X-WR-CALDESC:Events for Danske Murermestre
REFRESH-INTERVAL;VALUE=DURATION:PT1H
X-Robots-Tag:noindex
X-PUBLISHED-TTL:PT1H
BEGIN:VTIMEZONE
TZID:Europe/Copenhagen
BEGIN:DAYLIGHT
TZOFFSETFROM:+0100
TZOFFSETTO:+0200
TZNAME:CEST
DTSTART:20250330T010000
END:DAYLIGHT
BEGIN:STANDARD
TZOFFSETFROM:+0200
TZOFFSETTO:+0100
TZNAME:CET
DTSTART:20251026T010000
END:STANDARD
BEGIN:DAYLIGHT
TZOFFSETFROM:+0100
TZOFFSETTO:+0200
TZNAME:CEST
DTSTART:20260329T010000
END:DAYLIGHT
BEGIN:STANDARD
TZOFFSETFROM:+0200
TZOFFSETTO:+0100
TZNAME:CET
DTSTART:20261025T010000
END:STANDARD
BEGIN:DAYLIGHT
TZOFFSETFROM:+0100
TZOFFSETTO:+0200
TZNAME:CEST
DTSTART:20270328T010000
END:DAYLIGHT
BEGIN:STANDARD
TZOFFSETFROM:+0200
TZOFFSETTO:+0100
TZNAME:CET
DTSTART:20271031T010000
END:STANDARD
END:VTIMEZONE
BEGIN:VEVENT
DTSTART;TZID=Europe/Copenhagen:20260601T160000
DTEND;TZID=Europe/Copenhagen:20260601T180000
DTSTAMP:20260421T105022
CREATED:20250925T065604Z
LAST-MODIFIED:20250925T065604Z
UID:10000064-1780329600-1780336800@danskemurermestre.dk
SUMMARY:Udvalgsmøde Danske Murermestre Region Hovedstaden
DESCRIPTION:(sted uafklaret)
URL:https://danskemurermestre.dk/aktivitet/udvalgsmoede-danske-murermestre-region-hovedstaden-2/
END:VEVENT
BEGIN:VEVENT
DTSTART;TZID=Europe/Copenhagen:20260603T093000
DTEND;TZID=Europe/Copenhagen:20260603T150000
DTSTAMP:20260421T105022
CREATED:20260206T114734Z
LAST-MODIFIED:20260206T114734Z
UID:10000102-1780479000-1780498800@danskemurermestre.dk
SUMMARY:Møde i Det Faglige Fællesudvalg for Murer-\, Stenhugger- og Stukkaturfaget
DESCRIPTION:
URL:https://danskemurermestre.dk/aktivitet/moede-i-det-faglige-faellesudvalg-for-murer-stenhugger-og-stukkaturfaget-2/
END:VEVENT
BEGIN:VEVENT
DTSTART;VALUE=DATE:20260610
DTEND;VALUE=DATE:20260614
DTSTAMP:20260421T105022
CREATED:20260204T124004Z
LAST-MODIFIED:20260204T124004Z
UID:10000085-1781049600-1781395199@danskemurermestre.dk
SUMMARY:Danske Murermestre på Folkemødet
DESCRIPTION:Event på Bornholm med unge murertalenter.
URL:https://danskemurermestre.dk/aktivitet/danske-murermestre-paa-folkemoedet/
END:VEVENT
BEGIN:VEVENT
DTSTART;TZID=Europe/Copenhagen:20260612T170000
DTEND;TZID=Europe/Copenhagen:20260612T200000
DTSTAMP:20260421T105022
CREATED:20250925T065902Z
LAST-MODIFIED:20250925T065902Z
UID:10000065-1781283600-1781294400@danskemurermestre.dk
SUMMARY:Udvalgsmøde Danske Murermestre Region Nordsjælland
DESCRIPTION:København
URL:https://danskemurermestre.dk/aktivitet/udvalgsmoede-danske-murermestre-region-nordsjaelland-3/
END:VEVENT
BEGIN:VEVENT
DTSTART;TZID=Europe/Copenhagen:20260616T160000
DTEND;TZID=Europe/Copenhagen:20260616T180000
DTSTAMP:20260421T105022
CREATED:20250925T071645Z
LAST-MODIFIED:20250925T071645Z
UID:10000067-1781625600-1781632800@danskemurermestre.dk
SUMMARY:Udvalgsmøde Danske Murermestre Region Nordsjælland
DESCRIPTION:Hillerød
URL:https://danskemurermestre.dk/aktivitet/udvalgsmoede-danske-murermestre-region-nordsjaelland-5/
END:VEVENT
BEGIN:VEVENT
DTSTART;TZID=Europe/Copenhagen:20260618T160000
DTEND;TZID=Europe/Copenhagen:20260618T180000
DTSTAMP:20260421T105022
CREATED:20260206T111231Z
LAST-MODIFIED:20260206T111231Z
UID:10000091-1781798400-1781805600@danskemurermestre.dk
SUMMARY:Møde i Danske Murermestre Regionsudvalg Sjæll/LF
DESCRIPTION:Sted oplyses senere
URL:https://danskemurermestre.dk/aktivitet/moede-i-danske-murermestre-regionsudvalg-sjaell-lf/
END:VEVENT
BEGIN:VEVENT
DTSTART;TZID=Europe/Copenhagen:20260619T170000
DTEND;TZID=Europe/Copenhagen:20260619T200000
DTSTAMP:20260421T105022
CREATED:20260206T111508Z
LAST-MODIFIED:20260206T111508Z
UID:10000092-1781888400-1781899200@danskemurermestre.dk
SUMMARY:Udvalgsmøde i Danske Murermestre Region Nordsjælland
DESCRIPTION:Nimb (Bernstorffsgade 5\, 1577 København
URL:https://danskemurermestre.dk/aktivitet/udvalgsmoede-i-danske-murermestre-region-nordsjaelland/
END:VEVENT
BEGIN:VEVENT
DTSTART;VALUE=DATE:20260622
DTEND;VALUE=DATE:20260627
DTSTAMP:20260421T105022
CREATED:20260204T124312Z
LAST-MODIFIED:20260204T124312Z
UID:10000086-1782086400-1782518399@danskemurermestre.dk
SUMMARY:PCI-Alpencup flisemurere
DESCRIPTION:International konkurrence for flisemurere i Augsburg i Tyskland.
URL:https://danskemurermestre.dk/aktivitet/pci-alpencup-flisemurere/
END:VEVENT
BEGIN:VEVENT
DTSTART;VALUE=DATE:20260629
DTEND;VALUE=DATE:20260704
DTSTAMP:20260421T105022
CREATED:20260204T124545Z
LAST-MODIFIED:20260204T124545Z
UID:10000087-1782691200-1783123199@danskemurermestre.dk
SUMMARY:Sommer Camp Herningsholm
DESCRIPTION:For murere og flisemurere på Herningsholm Erhvervsskole – med internationale deltagere.
URL:https://danskemurermestre.dk/aktivitet/sommer-camp-herningsholm/
END:VEVENT
END:VCALENDAR