BEGIN:VCALENDAR
VERSION:2.0
PRODID:-//Danske Murermestre - ECPv6.15.16//NONSGML v1.0//EN
CALSCALE:GREGORIAN
METHOD:PUBLISH
X-WR-CALNAME:Danske Murermestre
X-ORIGINAL-URL:https://danskemurermestre.dk
X-WR-CALDESC:Events for Danske Murermestre
REFRESH-INTERVAL;VALUE=DURATION:PT1H
X-Robots-Tag:noindex
X-PUBLISHED-TTL:PT1H
BEGIN:VTIMEZONE
TZID:Europe/Copenhagen
BEGIN:DAYLIGHT
TZOFFSETFROM:+0100
TZOFFSETTO:+0200
TZNAME:CEST
DTSTART:20250330T010000
END:DAYLIGHT
BEGIN:STANDARD
TZOFFSETFROM:+0200
TZOFFSETTO:+0100
TZNAME:CET
DTSTART:20251026T010000
END:STANDARD
BEGIN:DAYLIGHT
TZOFFSETFROM:+0100
TZOFFSETTO:+0200
TZNAME:CEST
DTSTART:20260329T010000
END:DAYLIGHT
BEGIN:STANDARD
TZOFFSETFROM:+0200
TZOFFSETTO:+0100
TZNAME:CET
DTSTART:20261025T010000
END:STANDARD
BEGIN:DAYLIGHT
TZOFFSETFROM:+0100
TZOFFSETTO:+0200
TZNAME:CEST
DTSTART:20270328T010000
END:DAYLIGHT
BEGIN:STANDARD
TZOFFSETFROM:+0200
TZOFFSETTO:+0100
TZNAME:CET
DTSTART:20271031T010000
END:STANDARD
END:VTIMEZONE
BEGIN:VEVENT
DTSTART;TZID=Europe/Copenhagen:20260819T090000
DTEND;TZID=Europe/Copenhagen:20260819T150000
DTSTAMP:20260419T171020
CREATED:20260206T114841Z
LAST-MODIFIED:20260206T114841Z
UID:10000103-1787130000-1787151600@danskemurermestre.dk
SUMMARY:Møde i Det Faglige Fællesudvalg for Murer-\, Stenhugger- og Stukkaturfaget
DESCRIPTION:
URL:https://danskemurermestre.dk/aktivitet/moede-i-det-faglige-faellesudvalg-for-murer-stenhugger-og-stukkaturfaget-3/
END:VEVENT
BEGIN:VEVENT
DTSTART;TZID=Europe/Copenhagen:20260825T130000
DTEND;TZID=Europe/Copenhagen:20260825T150000
DTSTAMP:20260419T171020
CREATED:20260206T114942Z
LAST-MODIFIED:20260206T114942Z
UID:10000104-1787662800-1787670000@danskemurermestre.dk
SUMMARY:Møde i TU i Danske Murermestre
DESCRIPTION:
URL:https://danskemurermestre.dk/aktivitet/moede-i-tu-i-danske-murermestre-2/
END:VEVENT
END:VCALENDAR